BEGIN:VCALENDAR
VERSION:2.0
PRODID:-//Barbara Schaffner glp - ECPv5.9.0//NONSGML v1.0//EN
CALSCALE:GREGORIAN
METHOD:PUBLISH
X-WR-CALNAME:Barbara Schaffner glp
X-ORIGINAL-URL:https://barbaraschaffner.ch
X-WR-CALDESC:Veranstaltungen im Barbara Schaffner glp
BEGIN:VTIMEZONE
TZID:Europe/Berlin
BEGIN:DAYLIGHT
TZOFFSETFROM:+0100
TZOFFSETTO:+0200
TZNAME:CEST
DTSTART:20210328T010000
END:DAYLIGHT
BEGIN:STANDARD
TZOFFSETFROM:+0200
TZOFFSETTO:+0100
TZNAME:CET
DTSTART:20211031T010000
END:STANDARD
END:VTIMEZONE
BEGIN:VEVENT
DTSTART;TZID=Europe/Berlin:20210531T120000
DTEND;TZID=Europe/Berlin:20210531T124500
DTSTAMP:20260422T091757
CREATED:20210507T213717Z
LAST-MODIFIED:20210507T213717Z
UID:6486-1622462400-1622465100@barbaraschaffner.ch
SUMMARY:Betonbau als CO2-Schleuder. Muss das sein?
DESCRIPTION:Betonbauten sind langlebig\, aber haben einen schlechten Ruf bezüglich Klimafreundlichkeit. Patrick Eberhard zeigt uns\, dass es auch anders geht und erklärt im Gespräch mit mir\, wie der neue zirkulit-Beton CO2 bindet.
URL:https://barbaraschaffner.ch/event/betonbau-als-co2-schleuder-muss-das-sein/
CATEGORIES:CO2Talk
ATTACH;FMTTYPE=image/jpeg:https://barbaraschaffner.ch/wp-content/uploads/2021/05/210530-Eberhard.jpg
END:VEVENT
END:VCALENDAR