BEGIN:VCALENDAR
VERSION:2.0
PRODID:-//Barbara Schaffner glp - ECPv5.9.0//NONSGML v1.0//EN
CALSCALE:GREGORIAN
METHOD:PUBLISH
X-WR-CALNAME:Barbara Schaffner glp
X-ORIGINAL-URL:https://barbaraschaffner.ch
X-WR-CALDESC:Veranstaltungen im Barbara Schaffner glp
BEGIN:VTIMEZONE
TZID:Europe/Berlin
BEGIN:DAYLIGHT
TZOFFSETFROM:+0100
TZOFFSETTO:+0200
TZNAME:CEST
DTSTART:20210328T010000
END:DAYLIGHT
BEGIN:STANDARD
TZOFFSETFROM:+0200
TZOFFSETTO:+0100
TZNAME:CET
DTSTART:20211031T010000
END:STANDARD
END:VTIMEZONE
BEGIN:VEVENT
DTSTART;TZID=Europe/Berlin:20211108T200000
DTEND;TZID=Europe/Berlin:20211108T213000
DTSTAMP:20260422T044214
CREATED:20211019T145210Z
LAST-MODIFIED:20211019T145604Z
UID:6544-1636401600-1636407000@barbaraschaffner.ch
SUMMARY:Podiumsdiskussion zum Energiegesetz
DESCRIPTION:Podiumsdiskussion zum HEV-Referendum gegen das Energiegesetz \nDas Energiegesetz wurde im  Kantonsrat von einer breiten Allianz von AL bis FDP mit grossem Mehr verabschiedet. Aufgrund des HEV-Referendums kommt es zur Volksabstimmung. \nUnter der Leitung von Tagi-Journalist Marius Huber diskutiere ich mit Barbara Franzen (Kantonsrätin FDP)\, Christian Lucek (Kantonsrat SVP) und Hans Egloff (a. Nationalrat SVP) über das Gesetz und seine Auswirkungen. \nDiskutiert mit – am Podium\, beim anschliessenden Apéro oder im Livestream!
URL:https://barbaraschaffner.ch/event/podiumsdiskussion-zum-energiegesetz/
LOCATION:Petermoos\, Drisglerstrasse 3\, Buchs\, Switzerland
CATEGORIES:Podium,Veranstaltungen von und mit mir
ATTACH;FMTTYPE=image/jpeg:https://barbaraschaffner.ch/wp-content/uploads/2021/10/242523946_177337604543681_2828307632977937902_n.jpg
END:VEVENT
END:VCALENDAR