BEGIN:VCALENDAR
VERSION:2.0
PRODID:-//Barbara Schaffner glp - ECPv5.9.0//NONSGML v1.0//EN
CALSCALE:GREGORIAN
METHOD:PUBLISH
X-WR-CALNAME:Barbara Schaffner glp
X-ORIGINAL-URL:https://barbaraschaffner.ch
X-WR-CALDESC:Veranstaltungen im Barbara Schaffner glp
BEGIN:VTIMEZONE
TZID:Europe/Berlin
BEGIN:DAYLIGHT
TZOFFSETFROM:+0100
TZOFFSETTO:+0200
TZNAME:CEST
DTSTART:20160327T010000
END:DAYLIGHT
BEGIN:STANDARD
TZOFFSETFROM:+0200
TZOFFSETTO:+0100
TZNAME:CET
DTSTART:20161030T010000
END:STANDARD
END:VTIMEZONE
BEGIN:VEVENT
DTSTART;TZID=Europe/Berlin:20160430T130000
DTEND;TZID=Europe/Berlin:20160430T163000
DTSTAMP:20260422T104900
CREATED:20160425T190657Z
LAST-MODIFIED:20160819T231108Z
UID:4718-1462021200-1462033800@barbaraschaffner.ch
SUMMARY:Solarbauerntagung Dietikon
DESCRIPTION:Umfassende Informationen zu Solarstromanlagen heute mit Fachleuten und PolitikerInnen. \nU.a. zeigt Matthias Bräm\, Bauherr und Landwirt\, seine Anlage und referiert zu seinen Beweggründen für die Investition in ein Solardach. Ich spreche im Namen von ZÜRICH ERNEUERBAR zum Thema ‘Mit gelungenen Beispielen zur Energiewende’.
URL:https://barbaraschaffner.ch/event/solarbauerntagung-dietikon/
LOCATION:Familie Bräm\, Alte Kindhauserstrasse 11\, Dietikon\, Schweiz
CATEGORIES:Information,SSES,Veranstaltungen von und mit mir
ATTACH;FMTTYPE=image/jpeg:https://barbaraschaffner.ch/wp-content/uploads/2016/04/Solartagung-Dietikon2.jpg
END:VEVENT
END:VCALENDAR